BEGIN:VCALENDAR
VERSION:2.0
PRODID:-//ical@deappel.nl//NONSGML kigkonsult.se iCalcreator 2.29.21//
CALSCALE:GREGORIAN
METHOD:PUBLISH
UID:8e9d5278-38cb-48eb-ab03-7543510f9168
X-WR-CALNAME:deappel
X-WR-CALDESC:Deappel Events
X-WR-RELCALID:d7f2ea57-ddb1-44bd-90e1-cac95c9a420c
X-WR-TIMEZONE:Europe/Amsterdam
BEGIN:VTIMEZONE
TZID:Europe/Amsterdam
BEGIN:STANDARD
TZNAME:CET
DTSTART:20251026T030000
TZOFFSETFROM:+0200
TZOFFSETTO:+0100
RDATE:20261025T030000
RDATE:20271031T030000
END:STANDARD
BEGIN:DAYLIGHT
TZNAME:CEST
DTSTART:20260329T020000
TZOFFSETFROM:+0100
TZOFFSETTO:+0200
RDATE:20270328T020000
END:DAYLIGHT
END:VTIMEZONE
BEGIN:VEVENT
UID:eb784dc7-d986-4d67-a1ba-ab2376883a75
DTSTAMP:20260425T150735Z
CLASS:PUBLIC
DTSTART;TZID=Europe/Amsterdam:20260514T140000
DTEND;TZID=Europe/Amsterdam:20260514T170000
SEQUENCE:1
SUMMARY:Deappel - At the End of Our World /\nAt Our End of the World\na wor
 kshop by Çağlar Köseoğlu\n
TRANSP:OPAQUE
END:VEVENT
END:VCALENDAR
